{"text_format":"3","workbook":"xlsx","n_sheets":1,"sheets":["需求信息表"],"not_rendered":{"external_links":1,"defined_names":2},"read":"whole","date_system":"1900"}

{"sheet":"需求信息表","index":0,"n_rows":22,"n_cols":4,"rows_kept":22,"merged":[[0,1,0,3],[1,0,2,0],[1,1,2,1],[1,3,2,3],[3,3,21,3]]}
[null,"附件1：南京市雨花台区2023年公开招聘幼儿园备案制教师岗位信息表1"]
["序号","招聘单位","招聘岗位、数量","备注"]
[null,null,"学前教育"]
[1,{"$f":"'[1]需求信息表 (一)'!B3","v":"南京市康盛花园幼儿园"},{"$f":"'[1]需求信息表 (一)'!C3","v":2},"合并招聘岗位，报名不到具体单位。"]
[2,{"$f":"'[1]需求信息表 (一)'!B4","v":"南京市七贤幼儿园"},{"$f":"'[1]需求信息表 (一)'!C4","v":2}]
[3,{"$f":"'[1]需求信息表 (一)'!B5","v":"南京市琥珀森林幼儿园"},{"$f":"'[1]需求信息表 (一)'!C5","v":3}]
[4,{"$f":"'[1]需求信息表 (一)'!B6","v":"南京市莱蒙阳光幼儿园"},{"$f":"'[1]需求信息表 (一)'!C6","v":4}]
[5,{"$f":"'[1]需求信息表 (一)'!B7","v":"南京市雨花台区普德村幼儿园"},{"$f":"'[1]需求信息表 (一)'!C7","v":1}]
[6,{"$f":"'[1]需求信息表 (一)'!B8","v":"南京市阅城幼儿园"},{"$f":"'[1]需求信息表 (一)'!C8","v":6}]
[7,{"$f":"'[1]需求信息表 (一)'!B9","v":"南京市安德门幼儿园"},{"$f":"'[1]需求信息表 (一)'!C9","v":3}]
[8,{"$f":"'[1]需求信息表 (一)'!B10","v":"南京市晓村和苑幼儿园"},{"$f":"'[1]需求信息表 (一)'!C10","v":4}]
[9,{"$f":"'[1]需求信息表 (一)'!B11","v":"南京市软件谷实验幼儿园"},{"$f":"'[1]需求信息表 (一)'!C11","v":5}]
[10,{"$f":"'[1]需求信息表 (一)'!B12","v":"南京市赛虹桥幼儿园"},{"$f":"'[1]需求信息表 (一)'!C12","v":1}]
[11,{"$f":"'[1]需求信息表 (一)'!B13","v":"南京市华兴蓝光幼儿园"},{"$f":"'[1]需求信息表 (一)'!C13","v":4}]
[12,{"$f":"'[1]需求信息表 (一)'!B14","v":"南京市雨花台区金叶花园幼儿园"},{"$f":"'[1]需求信息表 (一)'!C14","v":1}]
[13,{"$f":"'[1]需求信息表 (一)'!B15","v":"南京市九都荟幼儿园"},{"$f":"'[1]需求信息表 (一)'!C15","v":4}]
[14,{"$f":"'[1]需求信息表 (一)'!B16","v":"南京市雨花台区铁心桥幼儿园"},{"$f":"'[1]需求信息表 (一)'!C16","v":1}]
[15,{"$f":"'[1]需求信息表 (一)'!B17","v":"南京市雨花台区板桥新城幼儿园"},{"$f":"'[1]需求信息表 (一)'!C17","v":1}]
[16,{"$f":"'[1]需求信息表 (一)'!B18","v":"南京市岱山实验幼儿园"},{"$f":"'[1]需求信息表 (一)'!C18","v":7}]
[17,{"$f":"'[1]需求信息表 (一)'!B19","v":"南京市灵动之星幼儿园"},{"$f":"'[1]需求信息表 (一)'!C19","v":7}]
[18,{"$f":"'[1]需求信息表 (一)'!B20","v":"南京市岱山西路幼儿园"},{"$f":"'[1]需求信息表 (一)'!C20","v":4}]
[null,"小计",60]